BEGIN:VCALENDAR
VERSION:2.0
PRODID:-//PYVOBJECT//NONSGML Version 0.9.9//EN
X-WR-TIMEZONE:Africa/Johannesburg
BEGIN:VTIMEZONE
TZID:Africa/Johannesburg
BEGIN:STANDARD
DTSTART:20000101T000000
RRULE:FREQ=YEARLY;BYMONTH=1
TZNAME:SAST
TZOFFSETFROM:+0200
TZOFFSETTO:+0200
END:STANDARD
END:VTIMEZONE
BEGIN:VEVENT
UID:20260422T215955Z - 14356@eos-content
DTSTART;TZID=Africa/Johannesburg:20260426T150000
DTEND;TZID=Africa/Johannesburg:20260426T170000
ATTENDEE:MAILTO:r.dekoker@werpr1me.co.za
DESCRIPTION:https://www.werrealestate.co.za/results/residential/for-sale/ce
 nturion/celtisdal/townhouse/3141204/\n\nContact the agent for gate access.
  Contact number on show boards at entrance gate\n\nReinette de Koker (082 
 929 9866)
DTSTAMP:20260422T215955Z
LOCATION:Celtisdal\, Centurion
SUMMARY:We-R-Real Estate Show Day - PR5982
END:VEVENT
END:VCALENDAR
