BEGIN:VCALENDAR
VERSION:2.0
PRODID:-//PYVOBJECT//NONSGML Version 0.9.9//EN
X-WR-TIMEZONE:Africa/Johannesburg
BEGIN:VTIMEZONE
TZID:Africa/Johannesburg
BEGIN:STANDARD
DTSTART:20000101T000000
RRULE:FREQ=YEARLY;BYMONTH=1
TZNAME:SAST
TZOFFSETFROM:+0200
TZOFFSETTO:+0200
END:STANDARD
END:VTIMEZONE
BEGIN:VEVENT
UID:20260422T192919Z - 98685@eos-content
DTSTART;TZID=Africa/Johannesburg:20260426T130000
DTEND;TZID=Africa/Johannesburg:20260426T150000
ATTENDEE:MAILTO:mynie.krieg@werpr1me.co.za
DESCRIPTION:https://www.werrealestate.co.za/results/residential/for-sale/ce
 nturion/the-reeds/freestanding/3140694/\n\nCall for address\n\nMynie Krieg
  (064 544 3948)
DTSTAMP:20260422T192919Z
LOCATION:The Reeds\, Centurion
SUMMARY:We-R-Real Estate Show Day - PR5980
END:VEVENT
END:VCALENDAR
